BEGIN:VCALENDAR
VERSION:2.0
PRODID:-//City of Colfax - ECPv6.15.20//NONSGML v1.0//EN
CALSCALE:GREGORIAN
METHOD:PUBLISH
X-WR-CALNAME:City of Colfax
X-ORIGINAL-URL:https://colfax-ca.gov
X-WR-CALDESC:Events for City of Colfax
REFRESH-INTERVAL;VALUE=DURATION:PT1H
X-Robots-Tag:noindex
X-PUBLISHED-TTL:PT1H
BEGIN:VTIMEZONE
TZID:America/Los_Angeles
BEGIN:DAYLIGHT
TZOFFSETFROM:-0800
TZOFFSETTO:-0700
TZNAME:PDT
DTSTART:20240310T100000
END:DAYLIGHT
BEGIN:STANDARD
TZOFFSETFROM:-0700
TZOFFSETTO:-0800
TZNAME:PST
DTSTART:20241103T090000
END:STANDARD
BEGIN:DAYLIGHT
TZOFFSETFROM:-0800
TZOFFSETTO:-0700
TZNAME:PDT
DTSTART:20250309T100000
END:DAYLIGHT
BEGIN:STANDARD
TZOFFSETFROM:-0700
TZOFFSETTO:-0800
TZNAME:PST
DTSTART:20251102T090000
END:STANDARD
BEGIN:DAYLIGHT
TZOFFSETFROM:-0800
TZOFFSETTO:-0700
TZNAME:PDT
DTSTART:20260308T100000
END:DAYLIGHT
BEGIN:STANDARD
TZOFFSETFROM:-0700
TZOFFSETTO:-0800
TZNAME:PST
DTSTART:20261101T090000
END:STANDARD
END:VTIMEZONE
BEGIN:VEVENT
DTSTART;TZID=America/Los_Angeles:20250621T080000
DTEND;TZID=America/Los_Angeles:20250621T120000
DTSTAMP:20260420T090950
CREATED:20250602T133052Z
LAST-MODIFIED:20250603T155857Z
UID:4331-1750492800-1750507200@colfax-ca.gov
SUMMARY:Wildfire Preparedness Expo
DESCRIPTION:Enhance your wildfire readiness at free Expo\nSaturday\, June 21\, 8am – 12pm CAL FIRE/PCFD Fire Station 10\, 13760 Lincoln Way\, Auburn Mark your calendars for the Wildfire Preparedness Expo\, hosted by CAL FIRE/Placer County Fire Department on Saturday\, June 21\, in Auburn. This free\, community-focused event aims to empower residents with critical tools and knowledge to protect homes\, families and neighborhoods from wildfire threats. Complimentary hamburgers and hot dogs will be available to the public. \nCome join us and learn about:\n\nHome hardening tips and resources/Fire Resilience\nLocal Fire Safe Councils and the Firewise USA® Community Program\nEmergency preparedness and evacuation information\nFire rescue equipment displays\, fire station open house\n\nEvent participants:  \n\nCALFIRE/Placer County Fire Department\nPlacer County Sheriff’s Office\nPlacer County Regional Forest Health Division\nPlacer County Animal Services\nPlacer County Air Pollution Control District\nPlacer County Code Compliance\nPlacer County Water Agency\nNorth Auburn/Ophir Fire Safe Council\n\nDon’t miss this opportunity to connect with fire safety professionals\, explore proactive solutions and enjoy a lively\, informative day. \n    \n    \n    \n            \n            \n        \n    \n\n    \n                        Wildfire Preparedness Expo\n        \n                    File size: 0.99 MB\n                    Created: 2025-29-05\n                    Updated: 2025-29-05\n                    Hits: 902\n        \n    \n    \n                                \n                    \n                    Download\n                \n                    \n                        \n                        Preview
URL:https://colfax-ca.gov/event/wildfire-preparedness-expo/
LOCATION:CAL FIRE/PCFD Fire Station 10\, 13760 Lincoln Way\, Auburn\, CA\, 13760 Lincoln Way\, Auburn\, United States
CATEGORIES:Community Event
ATTACH;FMTTYPE=image/png:https://ec8me3qcah7.exactdn.com/wp-content/uploads/Screenshot-2025-05-29-100337.png
END:VEVENT
BEGIN:VEVENT
DTSTART;TZID=America/Los_Angeles:20250621T080000
DTEND;TZID=America/Los_Angeles:20250621T140000
DTSTAMP:20260420T090950
CREATED:20250603T210732Z
LAST-MODIFIED:20250603T210732Z
UID:4381-1750492800-1750514400@colfax-ca.gov
SUMMARY:Flea Market
DESCRIPTION:SVCC Flea Markets are every 3rd Saturday where you can buy and sell unique treasures\, antiques\, crafts\, tools and more. The market is from 8:00am – 2:00pm. Come and enjoy snacks and drinks. \nIf you’re looking to be a vender\, tables are $10 each for outdoor space (12’X12′)\, setup starts at 6:00am Saturday morning. Indoor tables are $10 for the 1st\, $5 for each additional. Early set-up on Friday from 12:00pm – 2:00pm for indoor vendors only.
URL:https://colfax-ca.gov/event/flea-market/
CATEGORIES:Community Event
ATTACH;FMTTYPE=image/png:https://ec8me3qcah7.exactdn.com/wp-content/uploads/Screenshot-2025-06-03-140150.png
END:VEVENT
BEGIN:VEVENT
DTSTART;TZID=America/Los_Angeles:20250621T173000
DTEND;TZID=America/Los_Angeles:20250621T200000
DTSTAMP:20260420T090950
CREATED:20250603T184903Z
LAST-MODIFIED:20250603T185902Z
UID:4371-1750527000-1750536000@colfax-ca.gov
SUMMARY:BINGO Night
DESCRIPTION:Join the Colfax Green Machine for a fun-filled evening of Bingo to support a great cause! Our Bingo Night is a fundraiser to benefit our Members.  Not only will you have a chance to win exciting prizes\, but you’ll also be helping to make a difference in the community. \n\n$20 to play Bingo for the entire night!\n$10 for a delicious dinner to fuel your game-winning energy.\n$5 for dessert.\n\nThere will be dessert and refreshments available for purchase as well. Bring your friends and family and make it a night to remember! \nDon’t miss this opportunity to support a good cause and have a blast at the same time.  See you at Bingo Night!
URL:https://colfax-ca.gov/event/bingo-night/
LOCATION:Colfax Veterans Memorial Hall\, 22 Sunset Circle\, Colfax\, CA\, 95713\, United States
CATEGORIES:Community Event
ATTACH;FMTTYPE=image/png:https://ec8me3qcah7.exactdn.com/wp-content/uploads/Screenshot-2025-06-03-105029.png
END:VEVENT
END:VCALENDAR