BEGIN:VCALENDAR
VERSION:2.0
PRODID:-//City of Colfax - ECPv6.15.20//NONSGML v1.0//EN
CALSCALE:GREGORIAN
METHOD:PUBLISH
X-WR-CALNAME:City of Colfax
X-ORIGINAL-URL:https://colfax-ca.gov
X-WR-CALDESC:Events for City of Colfax
REFRESH-INTERVAL;VALUE=DURATION:PT1H
X-Robots-Tag:noindex
X-PUBLISHED-TTL:PT1H
BEGIN:VTIMEZONE
TZID:America/Los_Angeles
BEGIN:DAYLIGHT
TZOFFSETFROM:-0800
TZOFFSETTO:-0700
TZNAME:PDT
DTSTART:20240310T100000
END:DAYLIGHT
BEGIN:STANDARD
TZOFFSETFROM:-0700
TZOFFSETTO:-0800
TZNAME:PST
DTSTART:20241103T090000
END:STANDARD
BEGIN:DAYLIGHT
TZOFFSETFROM:-0800
TZOFFSETTO:-0700
TZNAME:PDT
DTSTART:20250309T100000
END:DAYLIGHT
BEGIN:STANDARD
TZOFFSETFROM:-0700
TZOFFSETTO:-0800
TZNAME:PST
DTSTART:20251102T090000
END:STANDARD
BEGIN:DAYLIGHT
TZOFFSETFROM:-0800
TZOFFSETTO:-0700
TZNAME:PDT
DTSTART:20260308T100000
END:DAYLIGHT
BEGIN:STANDARD
TZOFFSETFROM:-0700
TZOFFSETTO:-0800
TZNAME:PST
DTSTART:20261101T090000
END:STANDARD
END:VTIMEZONE
BEGIN:VEVENT
DTSTART;TZID=America/Los_Angeles:20250626T160000
DTEND;TZID=America/Los_Angeles:20250626T193000
DTSTAMP:20260420T092359
CREATED:20250603T165216Z
LAST-MODIFIED:20250603T165216Z
UID:4359-1750953600-1750966200@colfax-ca.gov
SUMMARY:Colfax Farmers Market
DESCRIPTION:Over the years\, the Sierra Vista Community Center’s Farmers’ Market has continuously supported the small\, family farmer and artisan of Northern California. If you’re looking for fresh produce\, this is the place for you. Although seasonal (May – October)\, you can find us every Thursday from 4:00pm-7:oopm in downtown Colfax. See ya there!
URL:https://colfax-ca.gov/event/colfax-farmers-market-4/
LOCATION:Downtown Historic Colfax\, Main St\, Colfax\, CA\, 95713\, United States
CATEGORIES:Community Event
ATTACH;FMTTYPE=image/png:https://ec8me3qcah7.exactdn.com/wp-content/uploads/Screenshot-2025-06-03-094037.png
END:VEVENT
END:VCALENDAR