BEGIN:VCALENDAR
VERSION:2.0
PRODID:-//City of Colfax - ECPv6.15.20//NONSGML v1.0//EN
CALSCALE:GREGORIAN
METHOD:PUBLISH
X-WR-CALNAME:City of Colfax
X-ORIGINAL-URL:https://colfax-ca.gov
X-WR-CALDESC:Events for City of Colfax
REFRESH-INTERVAL;VALUE=DURATION:PT1H
X-Robots-Tag:noindex
X-PUBLISHED-TTL:PT1H
BEGIN:VTIMEZONE
TZID:America/Los_Angeles
BEGIN:DAYLIGHT
TZOFFSETFROM:-0800
TZOFFSETTO:-0700
TZNAME:PDT
DTSTART:20240310T100000
END:DAYLIGHT
BEGIN:STANDARD
TZOFFSETFROM:-0700
TZOFFSETTO:-0800
TZNAME:PST
DTSTART:20241103T090000
END:STANDARD
BEGIN:DAYLIGHT
TZOFFSETFROM:-0800
TZOFFSETTO:-0700
TZNAME:PDT
DTSTART:20250309T100000
END:DAYLIGHT
BEGIN:STANDARD
TZOFFSETFROM:-0700
TZOFFSETTO:-0800
TZNAME:PST
DTSTART:20251102T090000
END:STANDARD
BEGIN:DAYLIGHT
TZOFFSETFROM:-0800
TZOFFSETTO:-0700
TZNAME:PDT
DTSTART:20260308T100000
END:DAYLIGHT
BEGIN:STANDARD
TZOFFSETFROM:-0700
TZOFFSETTO:-0800
TZNAME:PST
DTSTART:20261101T090000
END:STANDARD
END:VTIMEZONE
BEGIN:VEVENT
DTSTART;TZID=America/Los_Angeles:20250703T150000
DTEND;TZID=America/Los_Angeles:20250703T220000
DTSTAMP:20260424T053100
CREATED:20250603T212907Z
LAST-MODIFIED:20250603T212907Z
UID:4386-1751554800-1751580000@colfax-ca.gov
SUMMARY:Annual 3rd of July Celebration
DESCRIPTION:Every summer\, the charming town of Colfax\, California transforms into a hub of patriotism and community spirit during its annual 3rd of July Celebration. This beloved event offers a delightful blend of traditional festivities and modern entertainment\, making it a must-attend for locals and visitors alike.
URL:https://colfax-ca.gov/event/annual-3rd-of-july-celebration/
LOCATION:Downtown Historic Colfax\, Main St\, Colfax\, CA\, 95713\, United States
CATEGORIES:Community Event
ATTACH;FMTTYPE=image/jpeg:https://ec8me3qcah7.exactdn.com/wp-content/uploads/500705211_122131606718652348_8139353691470030093_n.jpg
END:VEVENT
END:VCALENDAR