BEGIN:VCALENDAR
VERSION:2.0
PRODID:-//City of Colfax - ECPv6.15.20//NONSGML v1.0//EN
CALSCALE:GREGORIAN
METHOD:PUBLISH
X-WR-CALNAME:City of Colfax
X-ORIGINAL-URL:https://colfax-ca.gov
X-WR-CALDESC:Events for City of Colfax
REFRESH-INTERVAL;VALUE=DURATION:PT1H
X-Robots-Tag:noindex
X-PUBLISHED-TTL:PT1H
BEGIN:VTIMEZONE
TZID:America/Los_Angeles
BEGIN:DAYLIGHT
TZOFFSETFROM:-0800
TZOFFSETTO:-0700
TZNAME:PDT
DTSTART:20240310T100000
END:DAYLIGHT
BEGIN:STANDARD
TZOFFSETFROM:-0700
TZOFFSETTO:-0800
TZNAME:PST
DTSTART:20241103T090000
END:STANDARD
BEGIN:DAYLIGHT
TZOFFSETFROM:-0800
TZOFFSETTO:-0700
TZNAME:PDT
DTSTART:20250309T100000
END:DAYLIGHT
BEGIN:STANDARD
TZOFFSETFROM:-0700
TZOFFSETTO:-0800
TZNAME:PST
DTSTART:20251102T090000
END:STANDARD
BEGIN:DAYLIGHT
TZOFFSETFROM:-0800
TZOFFSETTO:-0700
TZNAME:PDT
DTSTART:20260308T100000
END:DAYLIGHT
BEGIN:STANDARD
TZOFFSETFROM:-0700
TZOFFSETTO:-0800
TZNAME:PST
DTSTART:20261101T090000
END:STANDARD
END:VTIMEZONE
BEGIN:VEVENT
DTSTART;TZID=America/Los_Angeles:20250718T160000
DTEND;TZID=America/Los_Angeles:20250718T190000
DTSTAMP:20260424T015020
CREATED:20250603T162807Z
LAST-MODIFIED:20250603T162807Z
UID:4347-1752854400-1752865200@colfax-ca.gov
SUMMARY:Art Walk & Cruise Night
DESCRIPTION:Brought to you by Open Studio Arts and the Colfax Lions Club\, this recurring summer series is all about bringing people together to celebrate what makes our community special: creativity\, craftsmanship\, and connection. \n🎨 What to Expect: \n\nArt displays and demonstrations from local artists\nClassic and custom cars lining Main Street\nLive music and street performers\nFood and drink from local vendors\nFamily-friendly fun and evening strolls through downtown\n\nWhether you’re a local or just passing through\, this is the perfect way to experience the heart of Colfax. Wander the galleries\, admire restored vintage cars\, and soak in the small-town charm under the glow of summer lights. \n🖼️ Artists interested in showing their work can reach out to Open Studio Arts to get involved. Call Foxy 530-320-0433. \n✨ Pro Tip: Come early\, bring your friends\, and don’t forget your camera—this is one of the most Instagram-worthy nights in town! \nDon’t miss this celebration of local art\, culture\, and cruising classics. Mark your calendar and join us downtown!
URL:https://colfax-ca.gov/event/art-walk-cruise-night-2/
LOCATION:Downtown Historic Colfax\, Main St\, Colfax\, CA\, 95713\, United States
CATEGORIES:Community Event
ATTACH;FMTTYPE=image/jpeg:https://ec8me3qcah7.exactdn.com/wp-content/uploads/Screenshot-2025-06-03-091413.jpg
END:VEVENT
BEGIN:VEVENT
DTSTART;TZID=America/Los_Angeles:20250718T200000
DTEND;TZID=America/Los_Angeles:20250718T220000
DTSTAMP:20260424T015020
CREATED:20250604T160728Z
LAST-MODIFIED:20250604T160728Z
UID:4409-1752868800-1752876000@colfax-ca.gov
SUMMARY:Karaoke Night
DESCRIPTION:Come out to Dine n Dash Restaurant & Bar every Friday night from 8pm-10pm for a fun night of Karaoke! Choose your song from an extensive selection of classic rock\, country\, pop\, R&B\, and everything in between! Enjoy cocktails\, mocktails\, and cold beer from the full bar while listening to the fun night of entertainment!
URL:https://colfax-ca.gov/event/karaoke-night-6/
LOCATION:Dine N Dash\, 1516 S Canyon Way\, Colfax\, CA\, 95713\, United States
CATEGORIES:Community Event
ATTACH;FMTTYPE=image/jpeg:https://ec8me3qcah7.exactdn.com/wp-content/uploads/Screenshot-2025-06-03-120050.jpg
END:VEVENT
END:VCALENDAR