BEGIN:VCALENDAR
VERSION:2.0
PRODID:-//City of Colfax - ECPv6.15.20//NONSGML v1.0//EN
CALSCALE:GREGORIAN
METHOD:PUBLISH
X-WR-CALNAME:City of Colfax
X-ORIGINAL-URL:https://colfax-ca.gov
X-WR-CALDESC:Events for City of Colfax
REFRESH-INTERVAL;VALUE=DURATION:PT1H
X-Robots-Tag:noindex
X-PUBLISHED-TTL:PT1H
BEGIN:VTIMEZONE
TZID:America/Los_Angeles
BEGIN:DAYLIGHT
TZOFFSETFROM:-0800
TZOFFSETTO:-0700
TZNAME:PDT
DTSTART:20240310T100000
END:DAYLIGHT
BEGIN:STANDARD
TZOFFSETFROM:-0700
TZOFFSETTO:-0800
TZNAME:PST
DTSTART:20241103T090000
END:STANDARD
BEGIN:DAYLIGHT
TZOFFSETFROM:-0800
TZOFFSETTO:-0700
TZNAME:PDT
DTSTART:20250309T100000
END:DAYLIGHT
BEGIN:STANDARD
TZOFFSETFROM:-0700
TZOFFSETTO:-0800
TZNAME:PST
DTSTART:20251102T090000
END:STANDARD
BEGIN:DAYLIGHT
TZOFFSETFROM:-0800
TZOFFSETTO:-0700
TZNAME:PDT
DTSTART:20260308T100000
END:DAYLIGHT
BEGIN:STANDARD
TZOFFSETFROM:-0700
TZOFFSETTO:-0800
TZNAME:PST
DTSTART:20261101T090000
END:STANDARD
END:VTIMEZONE
BEGIN:VEVENT
DTSTART;TZID=America/Los_Angeles:20250608T080000
DTEND;TZID=America/Los_Angeles:20250608T110000
DTSTAMP:20260420T130737
CREATED:20250603T220101Z
LAST-MODIFIED:20250603T220101Z
UID:4392-1749369600-1749380400@colfax-ca.gov
SUMMARY:VFW Monthly Bake Sale and Pancake Breakfast
DESCRIPTION:Join the Colfax VFW on the 2nd Sunday of every month from 8am-11am for their Monthly Bake Sale and Pancake Breakfast. \n🍽️ What’s on the Menu? \nFor just a suggested donation of $10 per adult\, you can enjoy:\n✅ All-you-can-eat fluffy pancakes 🥞\n✅ Two eggs cooked to order 🍳\n✅ Your choice of ham or sausage 🍖\n✅ Freshly brewed coffee & orange juice ☕🍊 \n👶 Kids 5 & under eat FREE!\n👨‍👩‍👧‍👦 Family Special: $32 for a family of four or more! \nAll proceeds from this event go directly to supporting local veterans\, active service members\, and their families. Additionally\, in collaboration with the VFW Auxiliary\, funds help support first responders\, teachers\, and scholarships for local students. Every bite makes a difference! ❤️
URL:https://colfax-ca.gov/event/vfw-monthly-bake-sale-and-pancake-breakfast/
LOCATION:Colfax Veterans Memorial Hall\, 22 Sunset Circle\, Colfax\, CA\, 95713\, United States
CATEGORIES:Community Event
ATTACH;FMTTYPE=image/jpeg:https://ec8me3qcah7.exactdn.com/wp-content/uploads/Screenshot-2025-06-03-145842.jpg
END:VEVENT
BEGIN:VEVENT
DTSTART;TZID=America/Los_Angeles:20250606T200000
DTEND;TZID=America/Los_Angeles:20250606T220000
DTSTAMP:20260420T130737
CREATED:20250603T190818Z
LAST-MODIFIED:20250603T190818Z
UID:4375-1749240000-1749247200@colfax-ca.gov
SUMMARY:Karaoke Night
DESCRIPTION:Come out to Dine n Dash Restaurant & Bar every Friday night from 8pm-10pm for a fun night of Karaoke! Choose your song from an extensive selection of classic rock\, country\, pop\, R&B\, and everything in between! Enjoy cocktails\, mocktails\, and cold beer from the full bar while listening to the fun night of entertainment!
URL:https://colfax-ca.gov/event/karaoke-night/
LOCATION:Dine N Dash\, 1516 S Canyon Way\, Colfax\, CA\, 95713\, United States
CATEGORIES:Community Event
ATTACH;FMTTYPE=image/jpeg:https://ec8me3qcah7.exactdn.com/wp-content/uploads/Screenshot-2025-06-03-120050.jpg
END:VEVENT
BEGIN:VEVENT
DTSTART;TZID=America/Los_Angeles:20250606T080000
DTEND;TZID=America/Los_Angeles:20250606T100000
DTSTAMP:20260420T130737
CREATED:20250603T173124Z
LAST-MODIFIED:20250603T173124Z
UID:4361-1749196800-1749204000@colfax-ca.gov
SUMMARY:Coffee & Conversation
DESCRIPTION:Held every 1st Friday of the month\, this laid-back meet-up is your chance to connect with neighbors\, fellow business owners\, and community fans in a cozy\, informal setting—no agendas\, no speeches\, just good vibes and good company.
URL:https://colfax-ca.gov/event/coffee-conversation/
LOCATION:Colfax Chamber of Commerce\, 99 Railroad St\, Colfax\, CA\, 95713\, United States
CATEGORIES:Community Event
ATTACH;FMTTYPE=image/jpeg:https://ec8me3qcah7.exactdn.com/wp-content/uploads/Screenshot-2025-06-03-101936.jpg
END:VEVENT
BEGIN:VEVENT
DTSTART;TZID=America/Los_Angeles:20250605T190000
DTEND;TZID=America/Los_Angeles:20250605T210000
DTSTAMP:20260420T130737
CREATED:20250603T154830Z
LAST-MODIFIED:20250603T160818Z
UID:4339-1749150000-1749157200@colfax-ca.gov
SUMMARY:An evening with Richard Smith
DESCRIPTION:Enjoy exquisite music and an up-close and personal experience with his amazing fingerstyle repertoire\, all proceeds benefitting two amazing Colfax 501(c)(3) nonprofit organizations\, Care Sphere\, whose mission is to improve the lives of families impacted by autism AND Cat’s Animal Rescue and Shelter\, whose efforts have been responsible for saving countless critters\, from large to small\, in Placer County.
URL:https://colfax-ca.gov/event/an-evening-with-richard-smith/
LOCATION:Care Sphere\, 34 N. Main St\, Colfax\, CA\, 95713\, United States
CATEGORIES:Community Event
ATTACH;FMTTYPE=image/png:https://ec8me3qcah7.exactdn.com/wp-content/uploads/Screenshot-2025-06-03-084749.png
ORGANIZER;CN="Care Sphere":MAILTO:info@caresphere.org
END:VEVENT
BEGIN:VEVENT
DTSTART;TZID=America/Los_Angeles:20250605T160000
DTEND;TZID=America/Los_Angeles:20250605T200000
DTSTAMP:20260420T130737
CREATED:20250603T211313Z
LAST-MODIFIED:20250603T211313Z
UID:4383-1749139200-1749153600@colfax-ca.gov
SUMMARY:3rd of July Fundraiser
DESCRIPTION:On Thursday\, June 5th\, let Beach Hut Deli in Colfax fix your dinner and a portion of your purchase will be donated to help fund the fireworks at the Colfax 3rd of July celebration!
URL:https://colfax-ca.gov/event/3rd-of-july-fundraiser/
LOCATION:Beach Hut Deli\, 555 S. Auburn St\, Colfax\, CA\, 95713\, United States
ATTACH;FMTTYPE=image/jpeg:https://ec8me3qcah7.exactdn.com/wp-content/uploads/494636344_122132026436652348_8939684349496896146_n.jpg
END:VEVENT
BEGIN:VEVENT
DTSTART;TZID=America/Los_Angeles:20250605T160000
DTEND;TZID=America/Los_Angeles:20250605T193000
DTSTAMP:20260420T130737
CREATED:20250603T164313Z
LAST-MODIFIED:20250603T164313Z
UID:4354-1749139200-1749151800@colfax-ca.gov
SUMMARY:Colfax Farmers Market
DESCRIPTION:Over the years\, the Sierra Vista Community Center’s Farmers’ Market has continuously supported the small\, family farmer and artisan of Northern California. If you’re looking for fresh produce\, this is the place for you. Although seasonal (May – October)\, you can find us every Thursday from 4:00pm-7:oopm in downtown Colfax. See ya there!
URL:https://colfax-ca.gov/event/colfax-farmers-market/
LOCATION:Downtown Historic Colfax\, Main St\, Colfax\, CA\, 95713\, United States
CATEGORIES:Community Event
ATTACH;FMTTYPE=image/png:https://ec8me3qcah7.exactdn.com/wp-content/uploads/Screenshot-2025-06-03-094037.png
END:VEVENT
BEGIN:VEVENT
DTSTART;TZID=America/Los_Angeles:20250601T123000
DTEND;TZID=America/Los_Angeles:20250601T153000
DTSTAMP:20260420T130737
CREATED:20250603T174815Z
LAST-MODIFIED:20250603T174815Z
UID:4368-1748781000-1748791800@colfax-ca.gov
SUMMARY:BINGO!!
DESCRIPTION:Join the Sierra Vista Community Center every 1st Sunday for BINGO! Come win some money! Enjoy an afternoon out playing Bingo every 1st Sunday! Doors open at 12:45pm for registration & refreshments\, and game play begins promptly at 1:30. Buy-in is $20 for 12 games with 9 cards on a sheet\, plus 3 special games are typically added. Have a great time\, win some money and support your local not-for-profit community center. (Lunch menu varies each month and starts at $7.00)
URL:https://colfax-ca.gov/event/bingo/
LOCATION:Sierra Vista Community Center\, 55 School St\, Colfax\, CA\, 95713\, United States
CATEGORIES:Community Event
ATTACH;FMTTYPE=image/png:https://ec8me3qcah7.exactdn.com/wp-content/uploads/Screenshot-2025-06-03-104107.png
END:VEVENT
END:VCALENDAR